BEGIN:VCALENDAR
VERSION:2.0
PRODID:-//Smart Food - ECPv6.15.17//NONSGML v1.0//EN
CALSCALE:GREGORIAN
METHOD:PUBLISH
X-WR-CALNAME:Smart Food
X-ORIGINAL-URL:https://www.smartfood.org
X-WR-CALDESC:Events for Smart Food
REFRESH-INTERVAL;VALUE=DURATION:PT1H
X-Robots-Tag:noindex
X-PUBLISHED-TTL:PT1H
BEGIN:VTIMEZONE
TZID:UTC
BEGIN:STANDARD
TZOFFSETFROM:+0000
TZOFFSETTO:+0000
TZNAME:UTC
DTSTART:20190101T000000
END:STANDARD
END:VTIMEZONE
BEGIN:VEVENT
DTSTART;TZID=UTC:20200430T113000
DTEND;TZID=UTC:20210430T133000
DTSTAMP:20260424T102821
CREATED:20200429T221648Z
LAST-MODIFIED:20200916T224732Z
UID:8751-1588246200-1619789400@www.smartfood.org
SUMMARY:Funding Opportunities for Start-ups/SMEs for Indigenous Technology Commercialization
DESCRIPTION:Celebrating Development Commercialization of Indigenous Technology: Inviting Application for National Awards 2020 \nTechnology Development Board (TDB) is a statutory body of Department of Science & Technology (DST). As part of National Technology Day celebration on 11th May every year\, TDB presents following three Awards\, to industrial concerns who have successfully commercialized an indigenous technology. \nThe Technology Development Board (TDB)\, Department of Science and Technology\, Government of India provides financial assistance to Indian industrial concerns\, start-ups and SMEs attempting development and commercial application of indigenous technology\, or adapting imported technology to wider domestic applications. The objectives are to promote new ideas from small enterprises even at the risk of failures\, encourage production of competitive consumer products\, motivate industries and R&D institutions for product innovation\, develop socially relevant and profitable technologies\, identify and act in areas requiring strategic interventions and Invest in core technological strengths to enable Indian industry to stand-up to the competitive pressure and become a global player. \nOne (1) cash award of Rs. 25 lakh and a trophy to an industrial concern which has successfully developed & commercialized an indigenous technology. However\, in case the technology developer and commercializing organizations are different each one would be eligible for cash prize and a trophy. \nThree (3) cash awards of Rs. 15 lakh and a trophy each to a Micro\, Small and Medium Enterprise that have successfully commercialized a technology product based on indigenous technology. \nA cash award of Rs. 15 lakhs which was introduced for the first time for the F.Y. 2017-18 i.e. National Technology Start-up Award for promising new technology with potential for commercialization. \nPublishing of advertisement\, in National Daily Newspapers\, for inviting applications for awards is a yearly affair for TDB and as per practice in the past; it is advertised in the month of November every year. To apply visit www.tdb.gov.in
URL:https://www.smartfood.org/event/funding-opportunities-for-start-ups-smes-for-indigenous-technology-commercialization/
CATEGORIES:Funding
END:VEVENT
BEGIN:VEVENT
DTSTART;TZID=UTC:20200903T080000
DTEND;TZID=UTC:20200930T170000
DTSTAMP:20260424T102822
CREATED:20200902T231802Z
LAST-MODIFIED:20200910T032953Z
UID:11080-1599120000-1601485200@www.smartfood.org
SUMMARY:National Sorghum Foundation Opens Joint Scholarship Application
DESCRIPTION:The National Sorghum Foundation and BASF are pleased to announce a joint scholarship for the 2020-2021 academic year. \n“The National Sorghum Foundation is excited to continue to partner with BASF in supporting students who excel in academics\, leadership and service in their communities and universities\,” National Sorghum Foundation Chairman Larry Lambright said. “We look forward to providing deserving students with the financial assistance necessary to continue their education and success.” \nTwo $2\,500 scholarships will be awarded to deserving students pursuing an undergraduate or graduate degree in an agriculturally-related curriculum. Undergraduate applicants must be entering at least their second year of study during the 2020-2021 academic year. Applicants must also have a parent or grandparent who is a member of National Sorghum Producers. \nMore information about each scholarship’s criteria and application forms can be found online at SorghumGrowers.com/Foundation-Scholarships/.
URL:https://www.smartfood.org/event/national-sorghum-foundation-opens-joint-scholarship-application/
LOCATION:4201 North Interstate 27 Lubbock\, TX 79403
CATEGORIES:Funding
END:VEVENT
END:VCALENDAR